BEGIN:VCALENDAR
VERSION:2.0
PRODID:-//Persbergs friskola - ECPv6.2.3//NONSGML v1.0//EN
CALSCALE:GREGORIAN
METHOD:PUBLISH
X-WR-CALNAME:Persbergs friskola
X-ORIGINAL-URL:https://persbergsfriskola.se
X-WR-CALDESC:Händelser för Persbergs friskola
REFRESH-INTERVAL;VALUE=DURATION:PT1H
X-Robots-Tag:noindex
X-PUBLISHED-TTL:PT1H
BEGIN:VTIMEZONE
TZID:Europe/Stockholm
BEGIN:DAYLIGHT
TZOFFSETFROM:+0100
TZOFFSETTO:+0200
TZNAME:CEST
DTSTART:20250330T010000
END:DAYLIGHT
BEGIN:STANDARD
TZOFFSETFROM:+0200
TZOFFSETTO:+0100
TZNAME:CET
DTSTART:20251026T010000
END:STANDARD
END:VTIMEZONE
BEGIN:VEVENT
DTSTART;VALUE=DATE:20251027
DTEND;VALUE=DATE:20251101
DTSTAMP:20260426T024920
CREATED:20250808T124142Z
LAST-MODIFIED:20250808T124142Z
UID:5085-1761523200-1761955199@persbergsfriskola.se
SUMMARY:Höstlov
DESCRIPTION:
URL:https://persbergsfriskola.se/kalender/hostlov/
END:VEVENT
END:VCALENDAR