BEGIN:VCALENDAR
VERSION:2.0
PRODID:-//Persbergs friskola - ECPv6.2.3//NONSGML v1.0//EN
CALSCALE:GREGORIAN
METHOD:PUBLISH
X-ORIGINAL-URL:https://persbergsfriskola.se
X-WR-CALDESC:Händelser för Persbergs friskola
REFRESH-INTERVAL;VALUE=DURATION:PT1H
X-Robots-Tag:noindex
X-PUBLISHED-TTL:PT1H
BEGIN:VTIMEZONE
TZID:Europe/Stockholm
BEGIN:DAYLIGHT
TZOFFSETFROM:+0100
TZOFFSETTO:+0200
TZNAME:CEST
DTSTART:20260329T010000
END:DAYLIGHT
BEGIN:STANDARD
TZOFFSETFROM:+0200
TZOFFSETTO:+0100
TZNAME:CET
DTSTART:20261025T010000
END:STANDARD
END:VTIMEZONE
BEGIN:VEVENT
DTSTART;VALUE=DATE:20260223
DTEND;VALUE=DATE:20260228
DTSTAMP:20260426T025657
CREATED:20250808T124252Z
LAST-MODIFIED:20250808T124252Z
UID:5091-1771804800-1772236799@persbergsfriskola.se
SUMMARY:Sportlov
DESCRIPTION:
URL:https://persbergsfriskola.se/kalender/sportlov/
END:VEVENT
BEGIN:VEVENT
DTSTART;VALUE=DATE:20260330
DTEND;VALUE=DATE:20260331
DTSTAMP:20260426T025657
CREATED:20250808T124348Z
LAST-MODIFIED:20250808T124348Z
UID:5095-1774828800-1774915199@persbergsfriskola.se
SUMMARY:Lovdag
DESCRIPTION:
URL:https://persbergsfriskola.se/kalender/lovdag-2/
END:VEVENT
BEGIN:VEVENT
DTSTART;VALUE=DATE:20260407
DTEND;VALUE=DATE:20260411
DTSTAMP:20260426T025657
CREATED:20250808T124316Z
LAST-MODIFIED:20250808T124316Z
UID:5093-1775520000-1775865599@persbergsfriskola.se
SUMMARY:Påsklov
DESCRIPTION:
URL:https://persbergsfriskola.se/kalender/pasklov/
END:VEVENT
BEGIN:VEVENT
DTSTART;VALUE=DATE:20260515
DTEND;VALUE=DATE:20260516
DTSTAMP:20260426T025657
CREATED:20250808T125733Z
LAST-MODIFIED:20250808T125733Z
UID:5099-1778803200-1778889599@persbergsfriskola.se
SUMMARY:Lovdag
DESCRIPTION:
URL:https://persbergsfriskola.se/kalender/lovdag-4/
END:VEVENT
BEGIN:VEVENT
DTSTART;VALUE=DATE:20260527
DTEND;VALUE=DATE:20260528
DTSTAMP:20260426T025657
CREATED:20250808T124406Z
LAST-MODIFIED:20250808T124406Z
UID:5097-1779840000-1779926399@persbergsfriskola.se
SUMMARY:Lovdag
DESCRIPTION:
URL:https://persbergsfriskola.se/kalender/lovdag-3/
END:VEVENT
BEGIN:VEVENT
DTSTART;VALUE=DATE:20260611
DTEND;VALUE=DATE:20260612
DTSTAMP:20260426T025657
CREATED:20250808T125754Z
LAST-MODIFIED:20250808T125754Z
UID:5101-1781136000-1781222399@persbergsfriskola.se
SUMMARY:Skolavslutning
DESCRIPTION:
URL:https://persbergsfriskola.se/kalender/skolavslutning/
END:VEVENT
END:VCALENDAR